BEGIN:VCALENDAR
VERSION:2.0
PRODID:-//eventon.com NONSGML v1.0//EN
CALSCALE:GREGORIAN
METHOD:PUBLISH
BEGIN:VEVENT
UID:69e911a16bc3f
DTSTAMP:20260422T182121Z
DTSTART:20250726T030000Z
DTEND:20250726T060000Z
LOCATION:Lumber Mill 25985 Hwy 243 Idyllwild\,  CA 92549
SUMMARY:karaoke@ Lumber Mill
DESCRIPTION:karaoke@ Lumber Mill\nhttps://www.myidy.net/events/karaoke-lumb
 er-mill-47/
URL:https://www.myidy.net/events/karaoke-lumber-mill-47/
END:VEVENT
END:VCALENDAR