BEGIN:VCALENDAR
VERSION:2.0
PRODID:-//eventon.com NONSGML v1.0//EN
CALSCALE:GREGORIAN
METHOD:PUBLISH
BEGIN:VEVENT
UID:69ecf6eccc748
DTSTAMP:20260425T171628Z
DTSTART:20250809T010000Z
DTEND:20250809T040000Z
LOCATION:Ferro Restaurant 25840 Cedar St\,  Idyllwild\,  CA 92549
SUMMARY:Jazz grass@ferro's restaurant
DESCRIPTION:Jazz grass@ferro's restaurant\nhttps://www.myidy.net/events/jaz
 z-grassferros-restaurant/
URL:https://www.myidy.net/events/jazz-grassferros-restaurant/
END:VEVENT
END:VCALENDAR