BEGIN:VCALENDAR
VERSION:2.0
PRODID:-//eventon.com NONSGML v1.0//EN
CALSCALE:GREGORIAN
METHOD:PUBLISH
BEGIN:VEVENT
UID:69ecf1f7e3bc4
DTSTAMP:20260425T165519Z
DTSTART:20190831T183000Z
DTEND:20190901T043000Z
LOCATION:Fratello's Ristorante &amp; Pizzeria 54295 Ridgeview Drive Idyllwild\,  CA 92549
SUMMARY:Sugar Bear Live Music at Fratello's Ristaurante and Pizzeria
DESCRIPTION:Sugar Bear Live Music at Fratello's Ristaurante and Pizzeria\nh
 ttps://www.myidy.net/events/sugar-bear-live-music-at-fratellos-ristaurante-
 and-pizzeria/
URL:https://www.myidy.net/events/sugar-bear-live-music-at-fratellos-ristaurante-and-pizzeria/
END:VEVENT
END:VCALENDAR