BEGIN:VCALENDAR
VERSION:2.0
PRODID:-//eventon.com NONSGML v1.0//EN
CALSCALE:GREGORIAN
METHOD:PUBLISH
BEGIN:VEVENT
UID:69ebb7ba59fd5
DTSTAMP:20260424T183434Z
DTSTART:20260404T010000Z
DTEND:20260404T031000Z
LOCATION:Rustic Theatre 54290 N Circle Dr\,  Idyllwild\,  California 92549
SUMMARY:movie: HOPPERS@ rustic theatre
DESCRIPTION:movie: HOPPERS@ rustic theatre\nhttps://www.myidy.net/events/mo
 vie-hoppers-rustic-theatre/
URL:https://www.myidy.net/events/movie-hoppers-rustic-theatre/
END:VEVENT
END:VCALENDAR