BEGIN:VCALENDAR
VERSION:2.0
PRODID:-//eventon.com NONSGML v1.0//EN
CALSCALE:GREGORIAN
METHOD:PUBLISH
BEGIN:VEVENT
UID:69ebb41f6ae64
DTSTAMP:20260424T181911Z
DTSTART:20260405T023000Z
DTEND:20260405T043000Z
LOCATION:Rustic Theatre 54290 N Circle Dr\,  Idyllwild\,  California 92549
SUMMARY:COMEDY VARIETY EXTRAVAGANZA@ rustic theatre
DESCRIPTION:COMEDY VARIETY EXTRAVAGANZA@ rustic theatre\nhttps://www.myidy.
 net/events/comedy-variety-extravaganza-rustic-theatre/
URL:https://www.myidy.net/events/comedy-variety-extravaganza-rustic-theatre/
END:VEVENT
END:VCALENDAR