BEGIN:VCALENDAR
VERSION:2.0
PRODID:-//eventon.com NONSGML v1.0//EN
CALSCALE:GREGORIAN
METHOD:PUBLISH
BEGIN:VEVENT
UID:69ebb5bc8aab9
DTSTAMP:20260424T182604Z
DTSTART:20260412T023000Z
DTEND:20260412T043000Z
LOCATION:Rustic Theatre 54290 N Circle Dr\,  Idyllwild\,  California 92549
SUMMARY:IMPROV GONE (idyll) WILD!@ rustic theatre
DESCRIPTION:IMPROV GONE (idyll) WILD!@ rustic theatre\nhttps://www.myidy.ne
 t/events/improv-gone-idyll-wild-rustic-theatre-3/
URL:https://www.myidy.net/events/improv-gone-idyll-wild-rustic-theatre-3/
END:VEVENT
END:VCALENDAR