BEGIN:VCALENDAR
VERSION:2.0
PRODID:-//eventon.com NONSGML v1.0//EN
CALSCALE:GREGORIAN
METHOD:PUBLISH
BEGIN:VEVENT
UID:69ebb6525bc06
DTSTAMP:20260424T182834Z
DTSTART:20260417T010000Z
DTEND:20260417T030000Z
LOCATION:Rustic Theatre 54290 N Circle Dr\,  Idyllwild\,  California 92549
SUMMARY:movie: epic@ rustic theatre
DESCRIPTION:movie: epic@ rustic theatre\nhttps://www.myidy.net/events/movie
 -epic-rustic-theatre/
URL:https://www.myidy.net/events/movie-epic-rustic-theatre/
END:VEVENT
END:VCALENDAR