BEGIN:VCALENDAR
VERSION:2.0
PRODID:-//eventon.com NONSGML v1.0//EN
CALSCALE:GREGORIAN
METHOD:PUBLISH
BEGIN:VEVENT
UID:69ebb70b46d5e
DTSTAMP:20260424T183139Z
DTSTART:20260418T010000Z
DTEND:20260418T030000Z
LOCATION:Rustic Theatre 54290 N Circle Dr\,  Idyllwild\,  California 92549
SUMMARY:movie: NORMAL@ rustic theatre
DESCRIPTION:movie: NORMAL@ rustic theatre\nhttps://www.myidy.net/events/mov
 ie-normal-rustic-theatre/
URL:https://www.myidy.net/events/movie-normal-rustic-theatre/
END:VEVENT
END:VCALENDAR