BEGIN:VCALENDAR
VERSION:2.0
PRODID:-//eventon.com NONSGML v1.0//EN
CALSCALE:GREGORIAN
METHOD:PUBLISH
BEGIN:VEVENT
UID:69ebb909c6693
DTSTAMP:20260424T184009Z
DTSTART:20260419T010000Z
DTEND:20260419T030000Z
LOCATION:Rustic Theatre 54290 N Circle Dr\,  Idyllwild\,  California 92549
SUMMARY:movie: NORMAL@ rustic theatre
DESCRIPTION:movie: NORMAL@ rustic theatre\nhttps://www.myidy.net/events/mov
 ie-normal-rustic-theatre/var/ri-1.l-L1
URL:https://www.myidy.net/events/movie-normal-rustic-theatre/var/ri-1.l-L1
END:VEVENT
END:VCALENDAR