BEGIN:VCALENDAR
VERSION:2.0
PRODID:-//eventon.com NONSGML v1.0//EN
CALSCALE:GREGORIAN
METHOD:PUBLISH
BEGIN:VEVENT
UID:69ebba3bbe1f4
DTSTAMP:20260424T184515Z
DTSTART:20260421T010000Z
DTEND:20260421T030000Z
LOCATION:Rustic Theatre 54290 N Circle Dr\,  Idyllwild\,  California 92549
SUMMARY:movie: NORMAL@ rustic theatre
DESCRIPTION:movie: NORMAL@ rustic theatre\nhttps://www.myidy.net/events/mov
 ie-normal-rustic-theatre/var/ri-3.l-L1
URL:https://www.myidy.net/events/movie-normal-rustic-theatre/var/ri-3.l-L1
END:VEVENT
END:VCALENDAR