BEGIN:VCALENDAR
VERSION:2.0
PRODID:-//eventon.com NONSGML v1.0//EN
CALSCALE:GREGORIAN
METHOD:PUBLISH
BEGIN:VEVENT
UID:69ebb533191e9
DTSTAMP:20260424T182347Z
DTSTART:20260424T010000Z
DTEND:20260424T030000Z
LOCATION:Rustic Theatre 54290 N Circle Dr\,  Idyllwild\,  California 92549
SUMMARY:movie: NORMAL@ rustic theatre
DESCRIPTION:movie: NORMAL@ rustic theatre\nhttps://www.myidy.net/events/mov
 ie-normal-rustic-theatre/var/ri-6.l-L1
URL:https://www.myidy.net/events/movie-normal-rustic-theatre/var/ri-6.l-L1
END:VEVENT
END:VCALENDAR