BEGIN:VCALENDAR
VERSION:2.0
PRODID:-//eventon.com NONSGML v1.0//EN
CALSCALE:GREGORIAN
METHOD:PUBLISH
BEGIN:VEVENT
UID:69ebb5bb9a19f
DTSTAMP:20260424T182603Z
DTSTART:20260426T020000Z
DTEND:20260426T040000Z
LOCATION:Rustic Theatre 54290 N Circle Dr\,  Idyllwild\,  California 92549
SUMMARY:LIVE LAUGH PUP@ rustic theatre
DESCRIPTION:LIVE LAUGH PUP@ rustic theatre\nhttps://www.myidy.net/events/li
 ve-laugh-pup-rustic-theatre-4/
URL:https://www.myidy.net/events/live-laugh-pup-rustic-theatre-4/
END:VEVENT
END:VCALENDAR