BEGIN:VCALENDAR
VERSION:2.0
PRODID:-//eventon.com NONSGML v1.0//EN
CALSCALE:GREGORIAN
METHOD:PUBLISH
BEGIN:VEVENT
UID:69ebb73847dab
DTSTAMP:20260424T183224Z
DTSTART:20260427T010000Z
DTEND:20260427T030000Z
LOCATION:Rustic Theatre 54290 N Circle Dr\,  Idyllwild\,  California 92549
SUMMARY:movie: THE SUPER MARIO GALAXY MOVIE@ rustic theatre
DESCRIPTION:movie: THE SUPER MARIO GALAXY MOVIE@ rustic theatre\nhttps://ww
 w.myidy.net/events/movie-the-super-mario-galaxy-movie-rustic-theatre/var/ri
 -1.l-L1
URL:https://www.myidy.net/events/movie-the-super-mario-galaxy-movie-rustic-theatre/var/ri-1.l-L1
END:VEVENT
END:VCALENDAR